BEGIN:VCALENDAR
VERSION:2.0
PRODID:-//Griffner Haus - ECPv6.15.20//NONSGML v1.0//EN
CALSCALE:GREGORIAN
METHOD:PUBLISH
X-ORIGINAL-URL:https://griffner.com
X-WR-CALDESC:Veranstaltungen für Griffner Haus
REFRESH-INTERVAL;VALUE=DURATION:PT1H
X-Robots-Tag:noindex
X-PUBLISHED-TTL:PT1H
BEGIN:VTIMEZONE
TZID:Europe/Berlin
BEGIN:DAYLIGHT
TZOFFSETFROM:+0100
TZOFFSETTO:+0200
TZNAME:CEST
DTSTART:20250330T010000
END:DAYLIGHT
BEGIN:STANDARD
TZOFFSETFROM:+0200
TZOFFSETTO:+0100
TZNAME:CET
DTSTART:20251026T010000
END:STANDARD
BEGIN:DAYLIGHT
TZOFFSETFROM:+0100
TZOFFSETTO:+0200
TZNAME:CEST
DTSTART:20260329T010000
END:DAYLIGHT
BEGIN:STANDARD
TZOFFSETFROM:+0200
TZOFFSETTO:+0100
TZNAME:CET
DTSTART:20261025T010000
END:STANDARD
BEGIN:DAYLIGHT
TZOFFSETFROM:+0100
TZOFFSETTO:+0200
TZNAME:CEST
DTSTART:20270328T010000
END:DAYLIGHT
BEGIN:STANDARD
TZOFFSETFROM:+0200
TZOFFSETTO:+0100
TZNAME:CET
DTSTART:20271031T010000
END:STANDARD
END:VTIMEZONE
BEGIN:VEVENT
DTSTART;TZID=Europe/Berlin:20260425T090000
DTEND;TZID=Europe/Berlin:20260425T160000
DTSTAMP:20260422T114804
CREATED:20260401T094828Z
LAST-MODIFIED:20260409T100027Z
UID:73733-1777107600-1777132800@griffner.com
SUMMARY:Tag des Fertighauses 2026
DESCRIPTION:Save the Date!Tag des Fertighauses am 25. April 2026 \nZum Tag des Fertighauses öffnen wir am Samstag\, den 25. April 2026\, das GRIFFNER Floating House Design by Studio F. A. Porsche für alle interessierten Besucherinnen und Besucher.Nutze die besondere Gelegenheit für eine exklusive Besichtigung des architektonischen Meisterwerks und erlebe die außergewöhnliche Verbindung aus innovativer Bauweise\, modernem Design und höchstem Wohnkomfort aus nächster Nähe. \nVeranstaltungsdetails:📅 Datum: 25. April 2026🕘 Uhrzeit: 09:00–16:00 Uhr📍 Ort: Floating House Design by Studio F. A. Porsche am GRIFFNER Firmenstandort \nUnser GRIFFNER Vertriebspartner freut sich auf deinen Besuch und steht dir für deine Fragen gerne zur Verfügung! \nKeine Voranmeldung erforderlich. \n 
URL:https://griffner.com/messe-event/tag-des-fertighauses-2026/
LOCATION:GRIFFNER Floating House\, Gewerbestraße 3\, 9112 Griffen\, Österreich
ATTACH;FMTTYPE=image/png:https://griffner.com/wp-content/uploads/2026/04/Tag-des-Fertighauses_250426.png
END:VEVENT
BEGIN:VEVENT
DTSTART;TZID=Europe/Berlin:20260510T100000
DTEND;TZID=Europe/Berlin:20260510T150000
DTSTAMP:20260422T114804
CREATED:20260112T110326Z
LAST-MODIFIED:20260317T101857Z
UID:72408-1778407200-1778425200@griffner.com
SUMMARY:Fachliche Bauplatzanalyse im Musterhaus Haid_100526
DESCRIPTION:Du besitzt bereits ein Grundstück oder hast eines in Aussicht? Dann laden wir dich herzlich zur fachlichen Bauplatzanalyse im GRIFFNER Musterhaus Haid am Sonntag\, dem 10. Mai 2026 ein. \nBei einem persönlichen Termin (ca. 90 Minuten) analysierst du gemeinsam mit unserem Vertriebspartner vor Ort\, Thomas Brunnbauer\, die optimale Hauspositionierung auf deinem Grundstück. Berücksichtigt werden der Sonnenverlauf\, Witterungseinflüsse\, der Bebauungsplan sowie Aussicht und Umgebung – für die bestmögliche Ausrichtung deines zukünftigen Zuhauses. \nIm Anschluss können die nächsten Schritte auf dem Weg zu deinem Traumhaus besprochen werden. Gemeinsam bringen wir dein Bauvorhaben auf den Weg: Von der ersten Planung über die Grundstücksbesichtigung und Bedarfsanalyse bis hin zum Festpreisangebot. \nWo?GRIFFNER Musterhaus Classic im Musterhauspark Haid \nWann?Sonntag\, 10. Mai 2026Terminmöglichkeiten: 10.00\, 12.00 und 15.00 Uhr (bitte um Voranmeldung) \nAnmeldungen per Mail bis spätestens 30.04.2026 anbauplatzanalyse@griffnersales.com. \nWir freuen uns auf dich! \nDein GRIFFNER Team \n 
URL:https://griffner.com/messe-event/fachliche-bauplatzanalyse-im-musterhaus-haid_100526/
LOCATION:GRIFFNER Musterhaus CLASSIC Musterhauspark Haid\, Ikea-Platz 9\, Linz-Haid\, Oberösterreich\, Austria
ATTACH;FMTTYPE=image/png:https://griffner.com/wp-content/uploads/2026/01/Einladung-zur-fachlichen-Bauplatzanalyse_100525.png
END:VEVENT
BEGIN:VEVENT
DTSTART;TZID=Europe/Berlin:20260614T100000
DTEND;TZID=Europe/Berlin:20260614T150000
DTSTAMP:20260422T114804
CREATED:20260112T110710Z
LAST-MODIFIED:20260317T101245Z
UID:72413-1781431200-1781449200@griffner.com
SUMMARY:Fachliche Bauplatzanalyse im Musterhaus Haid_140626
DESCRIPTION:Du besitzt bereits ein Grundstück oder hast eines in Aussicht? Dann laden wir dich herzlich zur fachlichen Bauplatzanalyse im GRIFFNER Musterhaus Haid am Sonntag\, dem 14. Juni 2026 ein. \nBei einem persönlichen Termin (ca. 90 Minuten) analysierst du gemeinsam mit unserem Vertriebspartner vor Ort\, Thomas Brunnbauer\, die optimale Hauspositionierung auf deinem Grundstück. Berücksichtigt werden der Sonnenverlauf\, Witterungseinflüsse\, der Bebauungsplan sowie Aussicht und Umgebung – für die bestmögliche Ausrichtung deines zukünftigen Zuhauses. \nIm Anschluss können die nächsten Schritte auf dem Weg zu deinem Traumhaus besprochen werden. Gemeinsam bringen wir dein Bauvorhaben auf den Weg: Von der ersten Planung über die Grundstücksbesichtigung und Bedarfsanalyse bis hin zum Festpreisangebot. \nWo?GRIFFNER Musterhaus Classic im Musterhauspark Haid \nWann?Sonntag\, 14. Juni 2026Terminmöglichkeiten: 10.00\, 12.00 und 15.00 Uhr (bitte um Voranmeldung) \nAnmeldungen per Mail bis spätestens 05.06.2026 anbauplatzanalyse@griffnersales.com. \nWir freuen uns auf dich! \nDein GRIFFNER Team \n 
URL:https://griffner.com/messe-event/fachliche-bauplatzanalyse-im-musterhaus-haid_140626/
LOCATION:GRIFFNER Musterhaus CLASSIC Musterhauspark Haid\, Ikea-Platz 9\, Linz-Haid\, Oberösterreich\, Austria
ATTACH;FMTTYPE=image/png:https://griffner.com/wp-content/uploads/2026/01/Einladung-zur-fachlichen-Bauplatzanalyse_140625.png
END:VEVENT
BEGIN:VEVENT
DTSTART;TZID=Europe/Berlin:20260712T100000
DTEND;TZID=Europe/Berlin:20260712T150000
DTSTAMP:20260422T114804
CREATED:20260112T125652Z
LAST-MODIFIED:20260317T100043Z
UID:72416-1783850400-1783868400@griffner.com
SUMMARY:Fachliche Bauplatzanalyse im Musterhaus Haid_120726
DESCRIPTION:Du besitzt bereits ein Grundstück oder hast eines in Aussicht? Dann laden wir dich herzlich zur fachlichen Bauplatzanalyse im GRIFFNER Musterhaus Haid am Sonntag\, dem 12. Juli 2026 ein. \nBei einem persönlichen Termin (ca. 90 Minuten) analysierst du gemeinsam mit unserem Vertriebspartner vor Ort\, Thomas Brunnbauer\, die optimale Hauspositionierung auf deinem Grundstück. Berücksichtigt werden der Sonnenverlauf\, Witterungseinflüsse\, der Bebauungsplan sowie Aussicht und Umgebung – für die bestmögliche Ausrichtung deines zukünftigen Zuhauses. \nIm Anschluss können die nächsten Schritte auf dem Weg zu deinem Traumhaus besprochen werden. Gemeinsam bringen wir dein Bauvorhaben auf den Weg: Von der ersten Planung über die Grundstücksbesichtigung und Bedarfsanalyse bis hin zum Festpreisangebot. \nWo?GRIFFNER Musterhaus Classic im Musterhauspark Haid \nWann?Sonntag\, 12. Juli 2026Terminmöglichkeiten: 10.00\, 12.00 und 15.00 Uhr (bitte um Voranmeldung) \nAnmeldungen per Mail bis spätestens 03.07.2026 anbauplatzanalyse@griffnersales.com. \nWir freuen uns auf dich! \nDein GRIFFNER Team \n 
URL:https://griffner.com/messe-event/fachliche-bauplatzanalyse-im-musterhaus-haid_120726/
LOCATION:GRIFFNER Musterhaus CLASSIC Musterhauspark Haid\, Ikea-Platz 9\, Linz-Haid\, Oberösterreich\, Austria
ATTACH;FMTTYPE=image/png:https://griffner.com/wp-content/uploads/2026/01/Einladung-zur-fachlichen-Bauplatzanalyse_120725.png
END:VEVENT
BEGIN:VEVENT
DTSTART;TZID=Europe/Berlin:20260809T100000
DTEND;TZID=Europe/Berlin:20260809T150000
DTSTAMP:20260422T114804
CREATED:20260112T135017Z
LAST-MODIFIED:20260317T095651Z
UID:72421-1786269600-1786287600@griffner.com
SUMMARY:Fachliche Bauplatzanalyse im Musterhaus Haid_090826
DESCRIPTION:Du besitzt bereits ein Grundstück oder hast eines in Aussicht? Dann laden wir dich herzlich zur fachlichen Bauplatzanalyse im GRIFFNER Musterhaus Haid am Sonntag\, dem 09. August 2026 ein. \nBei einem persönlichen Termin (ca. 90 Minuten) analysierst du gemeinsam mit unserem Vertriebspartner vor Ort\, Thomas Brunnbauer\, die optimale Hauspositionierung auf deinem Grundstück. Berücksichtigt werden der Sonnenverlauf\, Witterungseinflüsse\, der Bebauungsplan sowie Aussicht und Umgebung – für die bestmögliche Ausrichtung deines zukünftigen Zuhauses. \nIm Anschluss können die nächsten Schritte auf dem Weg zu deinem Traumhaus besprochen werden. Gemeinsam bringen wir dein Bauvorhaben auf den Weg: Von der ersten Planung über die Grundstücksbesichtigung und Bedarfsanalyse bis hin zum Festpreisangebot. \nWo?GRIFFNER Musterhaus Classic im Musterhauspark Haid \nWann?Sonntag\, 09. August 2026Terminmöglichkeiten: 10.00\, 12.00 und 15.00 Uhr (bitte um Voranmeldung) \nAnmeldungen per Mail bis spätestens 31.07.2026 anbauplatzanalyse@griffnersales.com. \nWir freuen uns auf dich! \nDein GRIFFNER Team \n 
URL:https://griffner.com/messe-event/fachliche-bauplatzanalyse-im-musterhaus-haid_090826/
LOCATION:GRIFFNER Musterhaus CLASSIC Musterhauspark Haid\, Ikea-Platz 9\, Linz-Haid\, Oberösterreich\, Austria
ATTACH;FMTTYPE=image/png:https://griffner.com/wp-content/uploads/2026/01/Einladung-zur-fachlichen-Bauplatzanalyse_090825.png
END:VEVENT
BEGIN:VEVENT
DTSTART;TZID=Europe/Berlin:20260913T100000
DTEND;TZID=Europe/Berlin:20260913T150000
DTSTAMP:20260422T114804
CREATED:20260112T135745Z
LAST-MODIFIED:20260317T095240Z
UID:72424-1789293600-1789311600@griffner.com
SUMMARY:Fachliche Bauplatzanalyse im Musterhaus Haid_130926
DESCRIPTION:Du besitzt bereits ein Grundstück oder hast eines in Aussicht? Dann laden wir dich herzlich zur fachlichen Bauplatzanalyse im GRIFFNER Musterhaus Haid am Sonntag\, dem 13. September 2026 ein. \nBei einem persönlichen Termin (ca. 90 Minuten) analysierst du gemeinsam mit unserem Vertriebspartner vor Ort\, Thomas Brunnbauer\, die optimale Hauspositionierung auf deinem Grundstück. Berücksichtigt werden der Sonnenverlauf\, Witterungseinflüsse\, der Bebauungsplan sowie Aussicht und Umgebung – für die bestmögliche Ausrichtung deines zukünftigen Zuhauses. \nIm Anschluss können die nächsten Schritte auf dem Weg zu deinem Traumhaus besprochen werden. Gemeinsam bringen wir dein Bauvorhaben auf den Weg: Von der ersten Planung über die Grundstücksbesichtigung und Bedarfsanalyse bis hin zum Festpreisangebot. \nWo?GRIFFNER Musterhaus Classic im Musterhauspark Haid \nWann?Sonntag\, 13. September 2026Terminmöglichkeiten: 10.00\, 12.00 und 15.00 Uhr (bitte um Voranmeldung) \nAnmeldungen per Mail bis spätestens 04.09.2026 anbauplatzanalyse@griffnersales.com. \nWir freuen uns auf dich! \nDein GRIFFNER Team \n 
URL:https://griffner.com/messe-event/fachliche-bauplatzanalyse-im-musterhaus-haid_130926/
LOCATION:GRIFFNER Musterhaus CLASSIC Musterhauspark Haid\, Ikea-Platz 9\, Linz-Haid\, Oberösterreich\, Austria
ATTACH;FMTTYPE=image/png:https://griffner.com/wp-content/uploads/2026/01/Einladung-zur-fachlichen-Bauplatzanalyse_130925.png
END:VEVENT
BEGIN:VEVENT
DTSTART;TZID=Europe/Berlin:20261011T100000
DTEND;TZID=Europe/Berlin:20261011T150000
DTSTAMP:20260422T114804
CREATED:20260112T140040Z
LAST-MODIFIED:20260317T095524Z
UID:72427-1791712800-1791730800@griffner.com
SUMMARY:Fachliche Bauplatzanalyse im Musterhaus Haid_111026
DESCRIPTION:Du besitzt bereits ein Grundstück oder hast eines in Aussicht? Dann laden wir dich herzlich zur fachlichen Bauplatzanalyse im GRIFFNER Musterhaus Haid am Sonntag\, dem 11. Oktober 2026 ein. \nBei einem persönlichen Termin (ca. 90 Minuten) analysierst du gemeinsam mit unserem Vertriebspartner vor Ort\, Thomas Brunnbauer\, die optimale Hauspositionierung auf deinem Grundstück. Berücksichtigt werden der Sonnenverlauf\, Witterungseinflüsse\, der Bebauungsplan sowie Aussicht und Umgebung – für die bestmögliche Ausrichtung deines zukünftigen Zuhauses. \nIm Anschluss können die nächsten Schritte auf dem Weg zu deinem Traumhaus besprochen werden. Gemeinsam bringen wir dein Bauvorhaben auf den Weg: Von der ersten Planung über die Grundstücksbesichtigung und Bedarfsanalyse bis hin zum Festpreisangebot. \nWo?GRIFFNER Musterhaus Classic im Musterhauspark Haid \nWann?Sonntag\, 11. Oktober 2026Terminmöglichkeiten: 10.00\, 12.00 und 15.00 Uhr (bitte um Voranmeldung) \nAnmeldungen per Mail bis spätestens 02.10.2026 anbauplatzanalyse@griffnersales.com. \nWir freuen uns auf dich! \nDein GRIFFNER Team \n 
URL:https://griffner.com/messe-event/fachliche-bauplatzanalyse-im-musterhaus-haid_111026/
LOCATION:GRIFFNER Musterhaus CLASSIC Musterhauspark Haid\, Ikea-Platz 9\, Linz-Haid\, Oberösterreich\, Austria
ATTACH;FMTTYPE=image/png:https://griffner.com/wp-content/uploads/2026/01/Einladung-zur-fachlichen-Bauplatzanalyse_111025.png
END:VEVENT
BEGIN:VEVENT
DTSTART;TZID=Europe/Berlin:20261108T100000
DTEND;TZID=Europe/Berlin:20261108T150000
DTSTAMP:20260422T114804
CREATED:20260112T142401Z
LAST-MODIFIED:20260317T094957Z
UID:72431-1794132000-1794150000@griffner.com
SUMMARY:Fachliche Bauplatzanalyse im Musterhaus Haid_081126
DESCRIPTION:Du besitzt bereits ein Grundstück oder hast eines in Aussicht? Dann laden wir dich herzlich zur fachlichen Bauplatzanalyse im GRIFFNER Musterhaus Haid am Sonntag\, dem 08. November 2026 ein. \nBei einem persönlichen Termin (ca. 90 Minuten) analysierst du gemeinsam mit unserem Vertriebspartner vor Ort\, Thomas Brunnbauer\, die optimale Hauspositionierung auf deinem Grundstück. Berücksichtigt werden der Sonnenverlauf\, Witterungseinflüsse\, der Bebauungsplan sowie Aussicht und Umgebung – für die bestmögliche Ausrichtung deines zukünftigen Zuhauses. \nIm Anschluss können die nächsten Schritte auf dem Weg zu deinem Traumhaus besprochen werden. Gemeinsam bringen wir dein Bauvorhaben auf den Weg: Von der ersten Planung über die Grundstücksbesichtigung und Bedarfsanalyse bis hin zum Festpreisangebot. \nWo?GRIFFNER Musterhaus Classic im Musterhauspark Haid \nWann?Sonntag\, 08. November 2026Terminmöglichkeiten: 10.00\, 12.00 und 15.00 Uhr (bitte um Voranmeldung) \nAnmeldungen per Mail bis spätestens 30.10.2026 anbauplatzanalyse@griffnersales.com. \nWir freuen uns auf dich! \nDein GRIFFNER Team \n 
URL:https://griffner.com/messe-event/fachliche-bauplatzanalyse-im-musterhaus-haid_081126/
LOCATION:GRIFFNER Musterhaus CLASSIC Musterhauspark Haid\, Ikea-Platz 9\, Linz-Haid\, Oberösterreich\, Austria
ATTACH;FMTTYPE=image/png:https://griffner.com/wp-content/uploads/2026/01/Einladung-zur-fachlichen-Bauplatzanalyse_081125.png
END:VEVENT
BEGIN:VEVENT
DTSTART;TZID=Europe/Berlin:20261213T100000
DTEND;TZID=Europe/Berlin:20261213T150000
DTSTAMP:20260422T114804
CREATED:20260112T142909Z
LAST-MODIFIED:20260317T094520Z
UID:72437-1797156000-1797174000@griffner.com
SUMMARY:Fachliche Bauplatzanalyse im Musterhaus Haid_131226
DESCRIPTION:Du besitzt bereits ein Grundstück oder hast eines in Aussicht? Dann laden wir dich herzlich zur fachlichen Bauplatzanalyse im GRIFFNER Musterhaus Haid am Sonntag\, dem 08. November 2026 ein. \nBei einem persönlichen Termin (ca. 90 Minuten) analysierst du gemeinsam mit unserem Vertriebspartner vor Ort\, Thomas Brunnbauer\, die optimale Hauspositionierung auf deinem Grundstück. Berücksichtigt werden der Sonnenverlauf\, Witterungseinflüsse\, der Bebauungsplan sowie Aussicht und Umgebung – für die bestmögliche Ausrichtung deines zukünftigen Zuhauses. \nIm Anschluss können die nächsten Schritte auf dem Weg zu deinem Traumhaus besprochen werden. Gemeinsam bringen wir dein Bauvorhaben auf den Weg: Von der ersten Planung über die Grundstücksbesichtigung und Bedarfsanalyse bis hin zum Festpreisangebot. \nWo?GRIFFNER Musterhaus Classic im Musterhauspark Haid \nWann?Sonntag\, 13. Dezember 2026Terminmöglichkeiten: 10.00\, 12.00 und 15.00 Uhr (bitte um Voranmeldung) \nAnmeldungen per Mail bis spätestens 04.12.2026 an bauplatzanalyse@griffnersales.com. \nWir freuen uns auf dich! \nDein GRIFFNER Team \n 
URL:https://griffner.com/messe-event/fachliche-bauplatzanalyse-im-musterhaus-haid_131226/
LOCATION:GRIFFNER Musterhaus CLASSIC Musterhauspark Haid\, Ikea-Platz 9\, Linz-Haid\, Oberösterreich\, Austria
ATTACH;FMTTYPE=image/png:https://griffner.com/wp-content/uploads/2026/01/Einladung-zur-fachlichen-Bauplatzanalyse_131225.png
END:VEVENT
END:VCALENDAR